BEGIN:VCALENDAR
PRODID:-//UMBC//myUMBC 3.0//EN
METHOD:PUBLISH
BEGIN:VEVENT
UID:152432
DTSTAMP:20260420T140648Z
DTSTART:20260424T183000Z
DTEND:20260424T220000Z
TRANSP:OPAQUE
SUMMARY:The CIMBRE Symposium
LOCATION:Lecture Hall 1: Biological Sciences
DESCRIPTION:The inaugural Center for Integrated Mathematical and Biological sciences Research and Education (CIMBRE) symposium will be held on April 24th 2:30-6pm on the UMBC campus.  This event will feature...

URL:https://my3.my.umbc.edu/events/152432
END:VEVENT
END:VCALENDAR