BEGIN:VCALENDAR
PRODID:-//UMBC//myUMBC 3.0//EN
METHOD:PUBLISH
BEGIN:VEVENT
UID:153579
DTSTAMP:20260424T102015Z
DTSTART:20260504T160000Z
DTEND:20260504T170000Z
TRANSP:OPAQUE
SUMMARY:Spring Jewish Community Social
LOCATION:On Campus
DESCRIPTION:Shalom Chaverim!   We’re excited to invite you to the Spring Jewish Community Social event, hosted by the Jewish Affinity Group, UMBC Hillel, and UMBC Chabad.   There will be kosher food, drinks,...

URL:https://my3.my.umbc.edu/events/153579
END:VEVENT
END:VCALENDAR