BEGIN:VCALENDAR
PRODID:-//UMBC//myUMBC 3.0//EN
METHOD:PUBLISH
BEGIN:VEVENT
UID:153643
DTSTAMP:20260425T195327Z
DTSTART:20260428T210000Z
DTEND:20260428T230000Z
TRANSP:OPAQUE
SUMMARY:WGMP Bingo and Icecream Social!
LOCATION:Physics : 401
DESCRIPTION:Hey @everyone!   🍨 🎱 WGMP will be hosting our last event of the semester! We are going to have a Bingo and Icecream Social on Tuesday, April 28th from 5-7 pm in PHYS 401!    🍦 Feel free to join us...

URL:https://my3.my.umbc.edu/events/153643
END:VEVENT
END:VCALENDAR